BEGIN:VCALENDAR
VERSION:2.0
PRODID:-//Squarespace Inc/Squarespace 6//v6//EN
BEGIN:VEVENT
UID:5bd758eab208fc08df4bccbe@squarespace.com
DTSTAMP:20181029T190519Z
DTSTART:20181107T140000Z
DTEND:20181107T150000Z
SUMMARY:CtC International: Post Midterm Analysis with Student in Germany 
END:VEVENT
END:VCALENDAR
