BEGIN:VCALENDAR
VERSION:2.0
PRODID:-//Squarespace Inc/Squarespace 6//v6//EN
BEGIN:VEVENT
UID:5b9bf2ff0ebbe8f31c784cea@squarespace.com
DTSTAMP:20180914T174343Z
DTSTART:20181107T190000Z
DTEND:20181107T200000Z
SUMMARY:Congress to High School (International): Video Conference with stud
 ents in Germany
END:VEVENT
END:VCALENDAR
