BEGIN:VCALENDAR
VERSION:2.0
PRODID:-//Squarespace Inc/Squarespace 6//v6//EN
BEGIN:VEVENT
UID:5b4629c5575d1fe4b171c104@squarespace.com
DTSTAMP:20180817T131826Z
DTSTART:20181029T163000Z
DTEND:20181102T173000Z
SUMMARY:Congress to Campus- James Madison University
END:VEVENT
END:VCALENDAR
